BEGIN:VCALENDAR
VERSION:2.0
PRODID:-//habitatabi.org//NONSGML kigkonsult.se iCalcreator 2.30.10//
CALSCALE:GREGORIAN
METHOD:PUBLISH
UID:84077ff7-4f93-4a53-a154-3a5ba19ad87a
X-WR-CALDESC:Women Build is a powerful opportunity for women to come togeth
 er\, build confidence\, and make a meaningful impact in our community. Foc
 used on supporting women and children\, who are most often affected by uns
 afe and inadequate housing\, volunteers work in a supportive\, encouraging
  environment that promotes teamwork\, skill-building\, and connection.
X-WR-RELCALID:8cd0c1392d37b0506e3ab4ea7442572e
X-WR-TIMEZONE:America/Chicago
BEGIN:VTIMEZONE
TZID:America/Chicago
BEGIN:STANDARD
TZNAME:CST
DTSTART:20251102T020000
TZOFFSETFROM:-0500
TZOFFSETTO:-0600
RDATE:20261101T020000
END:STANDARD
BEGIN:DAYLIGHT
TZNAME:CDT
DTSTART:20250309T020000
TZOFFSETFROM:-0600
TZOFFSETTO:-0500
RDATE:20260308T020000
RDATE:20270314T020000
END:DAYLIGHT
END:VTIMEZONE
BEGIN:VEVENT
UID:02eb4c3b-015f-4eab-89ac-606bc490a84a
DTSTAMP:20260424T143820Z
DESCRIPTION:Women Build is a powerful opportunity for women to come togethe
 r\, build confidence\, and make a meaningful impact in our community. Focu
 sed on supporting women and children\, who are most often affected by unsa
 fe and inadequate housing\, volunteers work in a supportive\, encouraging 
 environment that promotes teamwork\, skill-building\, and connection.
DTSTART;TZID=America/Chicago:20260309T050000
DTEND;TZID=America/Chicago:20260314T050001
LOCATION:5201 Aztec\, Abilene\, TX 79605 US
SUMMARY:Women Build - From Heels to Hammers
END:VEVENT
END:VCALENDAR
