BEGIN:VCALENDAR
VERSION:2.0
PRODID:-//habitatabi.org//NONSGML kigkonsult.se iCalcreator 2.30.10//
CALSCALE:GREGORIAN
METHOD:PUBLISH
UID:0d35d63d-2c62-44fb-a5d8-ffe7f5f6af69
X-WR-CALDESC:
X-WR-RELCALID:e1439ec8d589562cd1724555afa0a4fc
X-WR-TIMEZONE:America/Chicago
BEGIN:VTIMEZONE
TZID:America/Chicago
BEGIN:STANDARD
TZNAME:CST
DTSTART:20251102T020000
TZOFFSETFROM:-0500
TZOFFSETTO:-0600
RDATE:20261101T020000
RDATE:20271107T020000
END:STANDARD
BEGIN:DAYLIGHT
TZNAME:CDT
DTSTART:20260308T020000
TZOFFSETFROM:-0600
TZOFFSETTO:-0500
RDATE:20270314T020000
RDATE:20280312T020000
END:DAYLIGHT
END:VTIMEZONE
BEGIN:VEVENT
UID:53c7575d-b49e-42c4-aca3-f1f2a0d68d1b
DTSTAMP:20260424T144140Z
DESCRIPTION:
DTSTART;TZID=America/Chicago:20261001T180000
DTEND;TZID=America/Chicago:20261001T220000
LOCATION:1700 TX-36\, Abilene\, TX 79602 US
SUMMARY:Habitat Homecoming Gala
END:VEVENT
END:VCALENDAR
