BEGIN:VCALENDAR
VERSION:2.0
PRODID:-//habitatabi.org//NONSGML kigkonsult.se iCalcreator 2.30.10//
CALSCALE:GREGORIAN
METHOD:PUBLISH
UID:d247f226-53f1-444a-bf8b-b18d877b5846
X-WR-CALDESC:
X-WR-RELCALID:6cfff9f3aa7b540d9b4aa3d78392da60
X-WR-TIMEZONE:America/Chicago
BEGIN:VTIMEZONE
TZID:America/Chicago
BEGIN:STANDARD
TZNAME:CST
DTSTART:20251102T020000
TZOFFSETFROM:-0500
TZOFFSETTO:-0600
RDATE:20261101T020000
RDATE:20271107T020000
END:STANDARD
BEGIN:DAYLIGHT
TZNAME:CDT
DTSTART:20260308T020000
TZOFFSETFROM:-0600
TZOFFSETTO:-0500
RDATE:20270314T020000
END:DAYLIGHT
END:VTIMEZONE
BEGIN:VEVENT
UID:666ae257-3176-464e-94be-73e85d4f4b3e
DTSTAMP:20260424T143702Z
DESCRIPTION:
DTSTART;TZID=America/Chicago:20260618T083000
DTEND;TZID=America/Chicago:20260618T140000
LOCATION:4039 S. Treadaway\, Abilene\, TX 79602 US
SUMMARY:Habitat FORE! Humanity Golf Tournament
END:VEVENT
END:VCALENDAR
